BEGIN:VCALENDAR
VERSION:2.0
PRODID:-//letYourMoneyGrow.com - Serving Retail Investors - ECPv6.15.17//NONSGML v1.0//EN
CALSCALE:GREGORIAN
METHOD:PUBLISH
X-ORIGINAL-URL:https://letyourmoneygrow.com
X-WR-CALDESC:Events for letYourMoneyGrow.com - Serving Retail Investors
REFRESH-INTERVAL;VALUE=DURATION:PT1H
X-Robots-Tag:noindex
X-PUBLISHED-TTL:PT1H
BEGIN:VTIMEZONE
TZID:Europe/Berlin
BEGIN:DAYLIGHT
TZOFFSETFROM:+0100
TZOFFSETTO:+0200
TZNAME:CEST
DTSTART:20180325T010000
END:DAYLIGHT
BEGIN:STANDARD
TZOFFSETFROM:+0200
TZOFFSETTO:+0100
TZNAME:CET
DTSTART:20181028T010000
END:STANDARD
BEGIN:DAYLIGHT
TZOFFSETFROM:+0100
TZOFFSETTO:+0200
TZNAME:CEST
DTSTART:20190331T010000
END:DAYLIGHT
BEGIN:STANDARD
TZOFFSETFROM:+0200
TZOFFSETTO:+0100
TZNAME:CET
DTSTART:20191027T010000
END:STANDARD
BEGIN:DAYLIGHT
TZOFFSETFROM:+0100
TZOFFSETTO:+0200
TZNAME:CEST
DTSTART:20200329T010000
END:DAYLIGHT
BEGIN:STANDARD
TZOFFSETFROM:+0200
TZOFFSETTO:+0100
TZNAME:CET
DTSTART:20201025T010000
END:STANDARD
BEGIN:DAYLIGHT
TZOFFSETFROM:+0100
TZOFFSETTO:+0200
TZNAME:CEST
DTSTART:20210328T010000
END:DAYLIGHT
BEGIN:STANDARD
TZOFFSETFROM:+0200
TZOFFSETTO:+0100
TZNAME:CET
DTSTART:20211031T010000
END:STANDARD
BEGIN:DAYLIGHT
TZOFFSETFROM:+0100
TZOFFSETTO:+0200
TZNAME:CEST
DTSTART:20220327T010000
END:DAYLIGHT
BEGIN:STANDARD
TZOFFSETFROM:+0200
TZOFFSETTO:+0100
TZNAME:CET
DTSTART:20221030T010000
END:STANDARD
END:VTIMEZONE
BEGIN:VEVENT
DTSTART;TZID=Europe/Berlin:20210806T080000
DTEND;TZID=Europe/Berlin:20210806T170000
DTSTAMP:20260423T124559
CREATED:20210507T184227Z
LAST-MODIFIED:20210507T202948Z
UID:21211-1628236800-1628269200@letyourmoneygrow.com
SUMMARY:TSLA
DESCRIPTION:Share this:\n				Share on LinkedIn (Opens in new window)\n				LinkedIn\n			\n				Share on Facebook (Opens in new window)\n				Facebook\n			\n				Share on X (Opens in new window)\n				X\n			\n				Share on Telegram (Opens in new window)\n				Telegram\n			\n				Share on Reddit (Opens in new window)\n				Reddit\n			\n				Share on WhatsApp (Opens in new window)\n				WhatsApp\n			\n				Print (Opens in new window)\n				Print
URL:https://letyourmoneygrow.com/event/tsla/
END:VEVENT
BEGIN:VEVENT
DTSTART;TZID=Europe/Berlin:20210721T080000
DTEND;TZID=Europe/Berlin:20210721T170000
DTSTAMP:20260423T124559
CREATED:20210621T190802Z
LAST-MODIFIED:20210621T190802Z
UID:21362-1626854400-1626886800@letyourmoneygrow.com
SUMMARY:AYX
DESCRIPTION:Share this:\n				Share on LinkedIn (Opens in new window)\n				LinkedIn\n			\n				Share on Facebook (Opens in new window)\n				Facebook\n			\n				Share on X (Opens in new window)\n				X\n			\n				Share on Telegram (Opens in new window)\n				Telegram\n			\n				Share on Reddit (Opens in new window)\n				Reddit\n			\n				Share on WhatsApp (Opens in new window)\n				WhatsApp\n			\n				Print (Opens in new window)\n				Print
URL:https://letyourmoneygrow.com/event/ayx/
END:VEVENT
BEGIN:VEVENT
DTSTART;TZID=Europe/Berlin:20210719T080000
DTEND;TZID=Europe/Berlin:20210719T170000
DTSTAMP:20260423T124559
CREATED:20210618T144822Z
LAST-MODIFIED:20210618T145507Z
UID:21355-1626681600-1626714000@letyourmoneygrow.com
SUMMARY:PSTG TTD LAZ MRNA
DESCRIPTION:Share this:\n				Share on LinkedIn (Opens in new window)\n				LinkedIn\n			\n				Share on Facebook (Opens in new window)\n				Facebook\n			\n				Share on X (Opens in new window)\n				X\n			\n				Share on Telegram (Opens in new window)\n				Telegram\n			\n				Share on Reddit (Opens in new window)\n				Reddit\n			\n				Share on WhatsApp (Opens in new window)\n				WhatsApp\n			\n				Print (Opens in new window)\n				Print
URL:https://letyourmoneygrow.com/event/pstg-ttd-laz/
END:VEVENT
BEGIN:VEVENT
DTSTART;TZID=Europe/Berlin:20210712T080000
DTEND;TZID=Europe/Berlin:20210712T170000
DTSTAMP:20260423T124559
CREATED:20210610T211243Z
LAST-MODIFIED:20210610T211243Z
UID:21327-1626076800-1626109200@letyourmoneygrow.com
SUMMARY:PEG
DESCRIPTION:Share this:\n				Share on LinkedIn (Opens in new window)\n				LinkedIn\n			\n				Share on Facebook (Opens in new window)\n				Facebook\n			\n				Share on X (Opens in new window)\n				X\n			\n				Share on Telegram (Opens in new window)\n				Telegram\n			\n				Share on Reddit (Opens in new window)\n				Reddit\n			\n				Share on WhatsApp (Opens in new window)\n				WhatsApp\n			\n				Print (Opens in new window)\n				Print
URL:https://letyourmoneygrow.com/event/peg/
END:VEVENT
BEGIN:VEVENT
DTSTART;TZID=Europe/Berlin:20210705T080000
DTEND;TZID=Europe/Berlin:20210705T170000
DTSTAMP:20260423T124559
CREATED:20210603T214123Z
LAST-MODIFIED:20210603T214123Z
UID:21302-1625472000-1625504400@letyourmoneygrow.com
SUMMARY:ICE
DESCRIPTION:Share this:\n				Share on LinkedIn (Opens in new window)\n				LinkedIn\n			\n				Share on Facebook (Opens in new window)\n				Facebook\n			\n				Share on X (Opens in new window)\n				X\n			\n				Share on Telegram (Opens in new window)\n				Telegram\n			\n				Share on Reddit (Opens in new window)\n				Reddit\n			\n				Share on WhatsApp (Opens in new window)\n				WhatsApp\n			\n				Print (Opens in new window)\n				Print
URL:https://letyourmoneygrow.com/event/ice/
END:VEVENT
BEGIN:VEVENT
DTSTART;TZID=Europe/Berlin:20210701T080000
DTEND;TZID=Europe/Berlin:20210701T170000
DTSTAMP:20260423T124559
CREATED:20210602T200341Z
LAST-MODIFIED:20210602T200341Z
UID:21300-1625126400-1625158800@letyourmoneygrow.com
SUMMARY:VRSK
DESCRIPTION:Share this:\n				Share on LinkedIn (Opens in new window)\n				LinkedIn\n			\n				Share on Facebook (Opens in new window)\n				Facebook\n			\n				Share on X (Opens in new window)\n				X\n			\n				Share on Telegram (Opens in new window)\n				Telegram\n			\n				Share on Reddit (Opens in new window)\n				Reddit\n			\n				Share on WhatsApp (Opens in new window)\n				WhatsApp\n			\n				Print (Opens in new window)\n				Print
URL:https://letyourmoneygrow.com/event/vrsk/
END:VEVENT
BEGIN:VEVENT
DTSTART;TZID=Europe/Berlin:20210628T080000
DTEND;TZID=Europe/Berlin:20210628T170000
DTSTAMP:20260423T124559
CREATED:20210527T145428Z
LAST-MODIFIED:20210527T182430Z
UID:21292-1624867200-1624899600@letyourmoneygrow.com
SUMMARY:PXD Z CTSH
DESCRIPTION:Share this:\n				Share on LinkedIn (Opens in new window)\n				LinkedIn\n			\n				Share on Facebook (Opens in new window)\n				Facebook\n			\n				Share on X (Opens in new window)\n				X\n			\n				Share on Telegram (Opens in new window)\n				Telegram\n			\n				Share on Reddit (Opens in new window)\n				Reddit\n			\n				Share on WhatsApp (Opens in new window)\n				WhatsApp\n			\n				Print (Opens in new window)\n				Print
URL:https://letyourmoneygrow.com/event/pxd-z/
END:VEVENT
BEGIN:VEVENT
DTSTART;TZID=Europe/Berlin:20210625T080000
DTEND;TZID=Europe/Berlin:20210625T170000
DTSTAMP:20260423T124559
CREATED:20210525T185001Z
LAST-MODIFIED:20210525T185001Z
UID:21279-1624608000-1624640400@letyourmoneygrow.com
SUMMARY:ZG
DESCRIPTION:Share this:\n				Share on LinkedIn (Opens in new window)\n				LinkedIn\n			\n				Share on Facebook (Opens in new window)\n				Facebook\n			\n				Share on X (Opens in new window)\n				X\n			\n				Share on Telegram (Opens in new window)\n				Telegram\n			\n				Share on Reddit (Opens in new window)\n				Reddit\n			\n				Share on WhatsApp (Opens in new window)\n				WhatsApp\n			\n				Print (Opens in new window)\n				Print
URL:https://letyourmoneygrow.com/event/zg/
END:VEVENT
BEGIN:VEVENT
DTSTART;TZID=Europe/Berlin:20210624T080000
DTEND;TZID=Europe/Berlin:20210624T170000
DTSTAMP:20260423T124559
CREATED:20210524T173501Z
LAST-MODIFIED:20210524T173501Z
UID:21275-1624521600-1624554000@letyourmoneygrow.com
SUMMARY:ARES
DESCRIPTION:Share this:\n				Share on LinkedIn (Opens in new window)\n				LinkedIn\n			\n				Share on Facebook (Opens in new window)\n				Facebook\n			\n				Share on X (Opens in new window)\n				X\n			\n				Share on Telegram (Opens in new window)\n				Telegram\n			\n				Share on Reddit (Opens in new window)\n				Reddit\n			\n				Share on WhatsApp (Opens in new window)\n				WhatsApp\n			\n				Print (Opens in new window)\n				Print
URL:https://letyourmoneygrow.com/event/ares/
END:VEVENT
BEGIN:VEVENT
DTSTART;TZID=Europe/Berlin:20210622T080000
DTEND;TZID=Europe/Berlin:20210622T170000
DTSTAMP:20260423T124559
CREATED:20210521T154713Z
LAST-MODIFIED:20210521T154713Z
UID:21260-1624348800-1624381200@letyourmoneygrow.com
SUMMARY:DISCA NLY PINS
DESCRIPTION:Share this:\n				Share on LinkedIn (Opens in new window)\n				LinkedIn\n			\n				Share on Facebook (Opens in new window)\n				Facebook\n			\n				Share on X (Opens in new window)\n				X\n			\n				Share on Telegram (Opens in new window)\n				Telegram\n			\n				Share on Reddit (Opens in new window)\n				Reddit\n			\n				Share on WhatsApp (Opens in new window)\n				WhatsApp\n			\n				Print (Opens in new window)\n				Print
URL:https://letyourmoneygrow.com/event/disca-nly-pins/
END:VEVENT
BEGIN:VEVENT
DTSTART;TZID=Europe/Berlin:20210621T080000
DTEND;TZID=Europe/Berlin:20210621T170000
DTSTAMP:20260423T124559
CREATED:20210427T211753Z
LAST-MODIFIED:20210520T160523Z
UID:21191-1624262400-1624294800@letyourmoneygrow.com
SUMMARY:MO
DESCRIPTION:Share this:\n				Share on LinkedIn (Opens in new window)\n				LinkedIn\n			\n				Share on Facebook (Opens in new window)\n				Facebook\n			\n				Share on X (Opens in new window)\n				X\n			\n				Share on Telegram (Opens in new window)\n				Telegram\n			\n				Share on Reddit (Opens in new window)\n				Reddit\n			\n				Share on WhatsApp (Opens in new window)\n				WhatsApp\n			\n				Print (Opens in new window)\n				Print
URL:https://letyourmoneygrow.com/event/mo/
END:VEVENT
BEGIN:VEVENT
DTSTART;TZID=Europe/Berlin:20210614T080000
DTEND;TZID=Europe/Berlin:20210614T170000
DTSTAMP:20260423T124559
CREATED:20210513T184311Z
LAST-MODIFIED:20210513T184311Z
UID:21228-1623657600-1623690000@letyourmoneygrow.com
SUMMARY:VIAC
DESCRIPTION:Share this:\n				Share on LinkedIn (Opens in new window)\n				LinkedIn\n			\n				Share on Facebook (Opens in new window)\n				Facebook\n			\n				Share on X (Opens in new window)\n				X\n			\n				Share on Telegram (Opens in new window)\n				Telegram\n			\n				Share on Reddit (Opens in new window)\n				Reddit\n			\n				Share on WhatsApp (Opens in new window)\n				WhatsApp\n			\n				Print (Opens in new window)\n				Print
URL:https://letyourmoneygrow.com/event/viac/
END:VEVENT
BEGIN:VEVENT
DTSTART;TZID=Europe/Berlin:20210611T080000
DTEND;TZID=Europe/Berlin:20210611T170000
DTSTAMP:20260423T124559
CREATED:20210415T221220Z
LAST-MODIFIED:20210513T184510Z
UID:21140-1623398400-1623430800@letyourmoneygrow.com
SUMMARY:MOMO
DESCRIPTION:Share this:\n				Share on LinkedIn (Opens in new window)\n				LinkedIn\n			\n				Share on Facebook (Opens in new window)\n				Facebook\n			\n				Share on X (Opens in new window)\n				X\n			\n				Share on Telegram (Opens in new window)\n				Telegram\n			\n				Share on Reddit (Opens in new window)\n				Reddit\n			\n				Share on WhatsApp (Opens in new window)\n				WhatsApp\n			\n				Print (Opens in new window)\n				Print
URL:https://letyourmoneygrow.com/event/momo/
END:VEVENT
BEGIN:VEVENT
DTSTART;TZID=Europe/Berlin:20210521T080000
DTEND;TZID=Europe/Berlin:20210521T170000
DTSTAMP:20260423T124559
CREATED:20210422T145446Z
LAST-MODIFIED:20210422T182332Z
UID:21169-1621584000-1621616400@letyourmoneygrow.com
SUMMARY:FCN ERIE KIM
DESCRIPTION:Share this:\n				Share on LinkedIn (Opens in new window)\n				LinkedIn\n			\n				Share on Facebook (Opens in new window)\n				Facebook\n			\n				Share on X (Opens in new window)\n				X\n			\n				Share on Telegram (Opens in new window)\n				Telegram\n			\n				Share on Reddit (Opens in new window)\n				Reddit\n			\n				Share on WhatsApp (Opens in new window)\n				WhatsApp\n			\n				Print (Opens in new window)\n				Print
URL:https://letyourmoneygrow.com/event/fcn/
END:VEVENT
BEGIN:VEVENT
DTSTART;TZID=Europe/Berlin:20210514T080000
DTEND;TZID=Europe/Berlin:20210514T170000
DTSTAMP:20260423T124559
CREATED:20210414T170135Z
LAST-MODIFIED:20210414T170135Z
UID:21136-1620979200-1621011600@letyourmoneygrow.com
SUMMARY:QDEL NRZ
DESCRIPTION:Share this:\n				Share on LinkedIn (Opens in new window)\n				LinkedIn\n			\n				Share on Facebook (Opens in new window)\n				Facebook\n			\n				Share on X (Opens in new window)\n				X\n			\n				Share on Telegram (Opens in new window)\n				Telegram\n			\n				Share on Reddit (Opens in new window)\n				Reddit\n			\n				Share on WhatsApp (Opens in new window)\n				WhatsApp\n			\n				Print (Opens in new window)\n				Print
URL:https://letyourmoneygrow.com/event/qdel-nrz/
END:VEVENT
BEGIN:VEVENT
DTSTART;TZID=Europe/Berlin:20210507T080000
DTEND;TZID=Europe/Berlin:20210507T170000
DTSTAMP:20260423T124559
CREATED:20210408T134648Z
LAST-MODIFIED:20210408T180130Z
UID:21111-1620374400-1620406800@letyourmoneygrow.com
SUMMARY:ETRN VIACA
DESCRIPTION:Share this:\n				Share on LinkedIn (Opens in new window)\n				LinkedIn\n			\n				Share on Facebook (Opens in new window)\n				Facebook\n			\n				Share on X (Opens in new window)\n				X\n			\n				Share on Telegram (Opens in new window)\n				Telegram\n			\n				Share on Reddit (Opens in new window)\n				Reddit\n			\n				Share on WhatsApp (Opens in new window)\n				WhatsApp\n			\n				Print (Opens in new window)\n				Print
URL:https://letyourmoneygrow.com/event/etrn/
END:VEVENT
BEGIN:VEVENT
DTSTART;TZID=Europe/Berlin:20210507T080000
DTEND;TZID=Europe/Berlin:20210507T170000
DTSTAMP:20260423T124559
CREATED:20210407T150611Z
LAST-MODIFIED:20210407T150713Z
UID:21102-1620374400-1620406800@letyourmoneygrow.com
SUMMARY:Sell Deadline
DESCRIPTION:ERIE\nHUYA \nShare this:\n				Share on LinkedIn (Opens in new window)\n				LinkedIn\n			\n				Share on Facebook (Opens in new window)\n				Facebook\n			\n				Share on X (Opens in new window)\n				X\n			\n				Share on Telegram (Opens in new window)\n				Telegram\n			\n				Share on Reddit (Opens in new window)\n				Reddit\n			\n				Share on WhatsApp (Opens in new window)\n				WhatsApp\n			\n				Print (Opens in new window)\n				Print
URL:https://letyourmoneygrow.com/event/sell-deadline/
END:VEVENT
BEGIN:VEVENT
DTSTART;TZID=Europe/Berlin:20210416T080000
DTEND;TZID=Europe/Berlin:20210416T170000
DTSTAMP:20260423T124559
CREATED:20210407T165735Z
LAST-MODIFIED:20210407T165735Z
UID:21106-1618560000-1618592400@letyourmoneygrow.com
SUMMARY:CMCL QRTEA
DESCRIPTION:Share this:\n				Share on LinkedIn (Opens in new window)\n				LinkedIn\n			\n				Share on Facebook (Opens in new window)\n				Facebook\n			\n				Share on X (Opens in new window)\n				X\n			\n				Share on Telegram (Opens in new window)\n				Telegram\n			\n				Share on Reddit (Opens in new window)\n				Reddit\n			\n				Share on WhatsApp (Opens in new window)\n				WhatsApp\n			\n				Print (Opens in new window)\n				Print
URL:https://letyourmoneygrow.com/event/cmcl-qrtea/
END:VEVENT
BEGIN:VEVENT
DTSTART;TZID=Europe/Berlin:20210415T080000
DTEND;TZID=Europe/Berlin:20210415T170000
DTSTAMP:20260423T124559
CREATED:20210407T165605Z
LAST-MODIFIED:20210407T165605Z
UID:21104-1618473600-1618506000@letyourmoneygrow.com
SUMMARY:NXST LYB
DESCRIPTION:Share this:\n				Share on LinkedIn (Opens in new window)\n				LinkedIn\n			\n				Share on Facebook (Opens in new window)\n				Facebook\n			\n				Share on X (Opens in new window)\n				X\n			\n				Share on Telegram (Opens in new window)\n				Telegram\n			\n				Share on Reddit (Opens in new window)\n				Reddit\n			\n				Share on WhatsApp (Opens in new window)\n				WhatsApp\n			\n				Print (Opens in new window)\n				Print
URL:https://letyourmoneygrow.com/event/nxst-lyb/
END:VEVENT
BEGIN:VEVENT
DTSTART;TZID=Europe/Berlin:20190531T080000
DTEND;TZID=Europe/Berlin:20190531T170000
DTSTAMP:20260423T124559
CREATED:20190601T090518Z
LAST-MODIFIED:20190601T090903Z
UID:11518-1559289600-1559322000@letyourmoneygrow.com
SUMMARY:Trump fires 5% tariffs on Mexican goods
DESCRIPTION:Trump fires 5% tariffs on Mexican goods until they stop illegal migration.\nChina theatens to cut down rare earth delivery to USA.\nMarkets fall: DAX -1.8%\, SP500 -1.2% \n \nShare this:\n				Share on LinkedIn (Opens in new window)\n				LinkedIn\n			\n				Share on Facebook (Opens in new window)\n				Facebook\n			\n				Share on X (Opens in new window)\n				X\n			\n				Share on Telegram (Opens in new window)\n				Telegram\n			\n				Share on Reddit (Opens in new window)\n				Reddit\n			\n				Share on WhatsApp (Opens in new window)\n				WhatsApp\n			\n				Print (Opens in new window)\n				Print
URL:https://letyourmoneygrow.com/event/11518/
END:VEVENT
BEGIN:VEVENT
DTSTART;TZID=Europe/Berlin:20190519T080000
DTEND;TZID=Europe/Berlin:20190519T170000
DTSTAMP:20260423T124600
CREATED:20190519T214704Z
LAST-MODIFIED:20190519T214704Z
UID:11485-1558252800-1558285200@letyourmoneygrow.com
SUMMARY:Fear slightly dominates
DESCRIPTION:On last Friday fear has slightly dominated\, which is obvious since Trump usually tweets on weekends. Thus investors were afraid of coming surprises.\nHowever\, this weekend brought a pleasant surprise: Trump postpones Tarifs on European Cars for 180 days. Expect a (slightly) positive gap on Monday opening \nShare this:\n				Share on LinkedIn (Opens in new window)\n				LinkedIn\n			\n				Share on Facebook (Opens in new window)\n				Facebook\n			\n				Share on X (Opens in new window)\n				X\n			\n				Share on Telegram (Opens in new window)\n				Telegram\n			\n				Share on Reddit (Opens in new window)\n				Reddit\n			\n				Share on WhatsApp (Opens in new window)\n				WhatsApp\n			\n				Print (Opens in new window)\n				Print
URL:https://letyourmoneygrow.com/event/fear-slightly-dominates/
END:VEVENT
BEGIN:VEVENT
DTSTART;TZID=Europe/Berlin:20190516T080000
DTEND;TZID=Europe/Berlin:20190516T170000
DTSTAMP:20260423T124600
CREATED:20190516T194315Z
LAST-MODIFIED:20190516T194315Z
UID:11466-1557993600-1558026000@letyourmoneygrow.com
SUMMARY:Markets still go up!
DESCRIPTION:Share this:\n				Share on LinkedIn (Opens in new window)\n				LinkedIn\n			\n				Share on Facebook (Opens in new window)\n				Facebook\n			\n				Share on X (Opens in new window)\n				X\n			\n				Share on Telegram (Opens in new window)\n				Telegram\n			\n				Share on Reddit (Opens in new window)\n				Reddit\n			\n				Share on WhatsApp (Opens in new window)\n				WhatsApp\n			\n				Print (Opens in new window)\n				Print
URL:https://letyourmoneygrow.com/event/markets-still-go-up/
END:VEVENT
BEGIN:VEVENT
DTSTART;TZID=Europe/Berlin:20190515T080000
DTEND;TZID=Europe/Berlin:20190515T170000
DTSTAMP:20260423T124600
CREATED:20190515T193434Z
LAST-MODIFIED:20190516T194246Z
UID:11462-1557907200-1557939600@letyourmoneygrow.com
SUMMARY:They buy the f*cking dip!
DESCRIPTION:Probably while Trump postpones tariffs for EU \nhttps://www.dailyfx.com/deutsch/devisenhandel/fundamental/tagliche_analyse/2019/05/16/Ausblick-DAX-nach-Aussagen-zu-EU-Zoellen-fester-.html \nShare this:\n				Share on LinkedIn (Opens in new window)\n				LinkedIn\n			\n				Share on Facebook (Opens in new window)\n				Facebook\n			\n				Share on X (Opens in new window)\n				X\n			\n				Share on Telegram (Opens in new window)\n				Telegram\n			\n				Share on Reddit (Opens in new window)\n				Reddit\n			\n				Share on WhatsApp (Opens in new window)\n				WhatsApp\n			\n				Print (Opens in new window)\n				Print
URL:https://letyourmoneygrow.com/event/they-buy-the-fcking-dip/
END:VEVENT
BEGIN:VEVENT
DTSTART;TZID=Europe/Berlin:20190514T080000
DTEND;TZID=Europe/Berlin:20190514T170000
DTSTAMP:20260423T124600
CREATED:20190514T201111Z
LAST-MODIFIED:20190514T201111Z
UID:11452-1557820800-1557853200@letyourmoneygrow.com
SUMMARY:No big news today: greed wins\, fear partially revenges in evening
DESCRIPTION:Share this:\n				Share on LinkedIn (Opens in new window)\n				LinkedIn\n			\n				Share on Facebook (Opens in new window)\n				Facebook\n			\n				Share on X (Opens in new window)\n				X\n			\n				Share on Telegram (Opens in new window)\n				Telegram\n			\n				Share on Reddit (Opens in new window)\n				Reddit\n			\n				Share on WhatsApp (Opens in new window)\n				WhatsApp\n			\n				Print (Opens in new window)\n				Print
URL:https://letyourmoneygrow.com/event/no-big-news-today-greed-wins-fear-partially-revenges-in-evening/
END:VEVENT
BEGIN:VEVENT
DTSTART;TZID=Europe/Berlin:20190513T080000
DTEND;TZID=Europe/Berlin:20190513T170000
DTSTAMP:20260423T124600
CREATED:20190513T201848Z
LAST-MODIFIED:20190513T201848Z
UID:11444-1557734400-1557766800@letyourmoneygrow.com
SUMMARY:Trump impose more tariffs\, China strikes back\, fear wins over greed
DESCRIPTION:https://www.finanzen.net/nachricht/aktien/nach-anhebung-der-us-zoelle-china-schlaegt-zurueck-hoehere-zoelle-auf-us-waren-ab-juni-7484609 \n  \nShare this:\n				Share on LinkedIn (Opens in new window)\n				LinkedIn\n			\n				Share on Facebook (Opens in new window)\n				Facebook\n			\n				Share on X (Opens in new window)\n				X\n			\n				Share on Telegram (Opens in new window)\n				Telegram\n			\n				Share on Reddit (Opens in new window)\n				Reddit\n			\n				Share on WhatsApp (Opens in new window)\n				WhatsApp\n			\n				Print (Opens in new window)\n				Print
URL:https://letyourmoneygrow.com/event/trump-impose-more-tariffs-china-strikes-back-fear-wins-over-greed/
END:VEVENT
BEGIN:VEVENT
DTSTART;TZID=Europe/Berlin:20190512T080000
DTEND;TZID=Europe/Berlin:20190512T170000
DTSTAMP:20260423T124600
CREATED:20190510T095948Z
LAST-MODIFIED:20190512T100244Z
UID:11434-1557648000-1557680400@letyourmoneygrow.com
SUMMARY:Greed beats fear so far. ThyssenKrupp jumps +25%
DESCRIPTION:First fear but then greed. For how long will greed suffice? 😉\n \n \nhttps://www.finanzen.net/nachricht/aktien/auch-keine-fusion-thyssenkrupp-stoppt-geplante-aufspaltung-und-strebt-ipo-der-aufzugssparte-an-aktie-ueber-20-prozent-im-plus-7475281 \n \nShare this:\n				Share on LinkedIn (Opens in new window)\n				LinkedIn\n			\n				Share on Facebook (Opens in new window)\n				Facebook\n			\n				Share on X (Opens in new window)\n				X\n			\n				Share on Telegram (Opens in new window)\n				Telegram\n			\n				Share on Reddit (Opens in new window)\n				Reddit\n			\n				Share on WhatsApp (Opens in new window)\n				WhatsApp\n			\n				Print (Opens in new window)\n				Print
URL:https://letyourmoneygrow.com/event/greed-beats-fear-so-far-thyssenkrupp-jumps-25/
END:VEVENT
BEGIN:VEVENT
DTSTART;TZID=Europe/Berlin:20190509T080000
DTEND;TZID=Europe/Berlin:20190509T170000
DTSTAMP:20260423T124600
CREATED:20190509T194109Z
LAST-MODIFIED:20190509T194109Z
UID:11421-1557388800-1557421200@letyourmoneygrow.com
SUMMARY:US officially introduced tariffs against China\, Market swings between fear and greed
DESCRIPTION:https://www.finanzen.net/nachricht/aktien/offiziell-bestaetigt-usa-machen-erhoehung-von-sonderzoellen-gegen-china-offiziell-einigung-noch-moeglich-7471157 \nShare this:\n				Share on LinkedIn (Opens in new window)\n				LinkedIn\n			\n				Share on Facebook (Opens in new window)\n				Facebook\n			\n				Share on X (Opens in new window)\n				X\n			\n				Share on Telegram (Opens in new window)\n				Telegram\n			\n				Share on Reddit (Opens in new window)\n				Reddit\n			\n				Share on WhatsApp (Opens in new window)\n				WhatsApp\n			\n				Print (Opens in new window)\n				Print
URL:https://letyourmoneygrow.com/event/us-officially-introduced-tariffs-against-china-market-swings-between-fear-and-greed/
END:VEVENT
BEGIN:VEVENT
DTSTART;TZID=Europe/Berlin:20190508T080000
DTEND;TZID=Europe/Berlin:20190508T170000
DTSTAMP:20260423T124600
CREATED:20190508T204118Z
LAST-MODIFIED:20190508T204118Z
UID:11414-1557302400-1557334800@letyourmoneygrow.com
SUMMARY:Trade War - China threatens with a backstrike
DESCRIPTION:SP500 calm\n\nDAX even grows\n \n  \nhttps://www.finanzen.net/nachricht/aktien/china-droht-mit-vergeltung-gespraeche-im-handelskrieg-gehen-weiter-7466390 \nShare this:\n				Share on LinkedIn (Opens in new window)\n				LinkedIn\n			\n				Share on Facebook (Opens in new window)\n				Facebook\n			\n				Share on X (Opens in new window)\n				X\n			\n				Share on Telegram (Opens in new window)\n				Telegram\n			\n				Share on Reddit (Opens in new window)\n				Reddit\n			\n				Share on WhatsApp (Opens in new window)\n				WhatsApp\n			\n				Print (Opens in new window)\n				Print
URL:https://letyourmoneygrow.com/event/trade-war-china-threatens-with-a-backstrike/
END:VEVENT
BEGIN:VEVENT
DTSTART;TZID=Europe/Berlin:20190507T080000
DTEND;TZID=Europe/Berlin:20190507T170000
DTSTAMP:20260423T124600
CREATED:20190507T212108Z
LAST-MODIFIED:20190507T212108Z
UID:11402-1557216000-1557248400@letyourmoneygrow.com
SUMMARY:Market continues to fall
DESCRIPTION:Although no breaking news and moreover\, Chinese told they WILL come to negotiation - in spite of Trumps assault \n \nShare this:\n				Share on LinkedIn (Opens in new window)\n				LinkedIn\n			\n				Share on Facebook (Opens in new window)\n				Facebook\n			\n				Share on X (Opens in new window)\n				X\n			\n				Share on Telegram (Opens in new window)\n				Telegram\n			\n				Share on Reddit (Opens in new window)\n				Reddit\n			\n				Share on WhatsApp (Opens in new window)\n				WhatsApp\n			\n				Print (Opens in new window)\n				Print
URL:https://letyourmoneygrow.com/event/market-continues-to-fall/
END:VEVENT
BEGIN:VEVENT
DTSTART;TZID=Europe/Berlin:20190506T080000
DTEND;TZID=Europe/Berlin:20190506T170000
DTSTAMP:20260423T124600
CREATED:20190506T211448Z
LAST-MODIFIED:20190507T212407Z
UID:11396-1557129600-1557162000@letyourmoneygrow.com
SUMMARY:Trump twits on China Tariff\, market opens with a gap
DESCRIPTION:Yesterday Trump twitted For 10 months\, China has been paying Tariffs to the USA of 25% on 50 Billion Dollars of High Tech\, and 10% on 200 Billion Dollars of other goods. These payments are partially responsible for our great economic results. The 10% will go up to 25% on Friday. 325 Billions Dollars.... \nDax opened -1.5% fell -2% intraday and closed by -1%\nSP500 opened by -1% and closed by -0.44% \n \nShare this:\n				Share on LinkedIn (Opens in new window)\n				LinkedIn\n			\n				Share on Facebook (Opens in new window)\n				Facebook\n			\n				Share on X (Opens in new window)\n				X\n			\n				Share on Telegram (Opens in new window)\n				Telegram\n			\n				Share on Reddit (Opens in new window)\n				Reddit\n			\n				Share on WhatsApp (Opens in new window)\n				WhatsApp\n			\n				Print (Opens in new window)\n				Print
URL:https://letyourmoneygrow.com/event/11396/
END:VEVENT
END:VCALENDAR