BEGIN:VCALENDAR
VERSION:2.0
PRODID:-//letYourMoneyGrow.com - Serving Retail Investors - ECPv6.15.17//NONSGML v1.0//EN
CALSCALE:GREGORIAN
METHOD:PUBLISH
X-ORIGINAL-URL:https://letyourmoneygrow.com
X-WR-CALDESC:Events for letYourMoneyGrow.com - Serving Retail Investors
REFRESH-INTERVAL;VALUE=DURATION:PT1H
X-Robots-Tag:noindex
X-PUBLISHED-TTL:PT1H
BEGIN:VTIMEZONE
TZID:Europe/Berlin
BEGIN:DAYLIGHT
TZOFFSETFROM:+0100
TZOFFSETTO:+0200
TZNAME:CEST
DTSTART:20170326T010000
END:DAYLIGHT
BEGIN:STANDARD
TZOFFSETFROM:+0200
TZOFFSETTO:+0100
TZNAME:CET
DTSTART:20171029T010000
END:STANDARD
BEGIN:DAYLIGHT
TZOFFSETFROM:+0100
TZOFFSETTO:+0200
TZNAME:CEST
DTSTART:20180325T010000
END:DAYLIGHT
BEGIN:STANDARD
TZOFFSETFROM:+0200
TZOFFSETTO:+0100
TZNAME:CET
DTSTART:20181028T010000
END:STANDARD
BEGIN:DAYLIGHT
TZOFFSETFROM:+0100
TZOFFSETTO:+0200
TZNAME:CEST
DTSTART:20190331T010000
END:DAYLIGHT
BEGIN:STANDARD
TZOFFSETFROM:+0200
TZOFFSETTO:+0100
TZNAME:CET
DTSTART:20191027T010000
END:STANDARD
BEGIN:DAYLIGHT
TZOFFSETFROM:+0100
TZOFFSETTO:+0200
TZNAME:CEST
DTSTART:20200329T010000
END:DAYLIGHT
BEGIN:STANDARD
TZOFFSETFROM:+0200
TZOFFSETTO:+0100
TZNAME:CET
DTSTART:20201025T010000
END:STANDARD
END:VTIMEZONE
BEGIN:VEVENT
DTSTART;TZID=Europe/Berlin:20190519T080000
DTEND;TZID=Europe/Berlin:20190519T170000
DTSTAMP:20260423T154923
CREATED:20190519T214704Z
LAST-MODIFIED:20190519T214704Z
UID:11485-1558252800-1558285200@letyourmoneygrow.com
SUMMARY:Fear slightly dominates
DESCRIPTION:On last Friday fear has slightly dominated\, which is obvious since Trump usually tweets on weekends. Thus investors were afraid of coming surprises.\nHowever\, this weekend brought a pleasant surprise: Trump postpones Tarifs on European Cars for 180 days. Expect a (slightly) positive gap on Monday opening \nShare this:\n				Share on LinkedIn (Opens in new window)\n				LinkedIn\n			\n				Share on Facebook (Opens in new window)\n				Facebook\n			\n				Share on X (Opens in new window)\n				X\n			\n				Share on Telegram (Opens in new window)\n				Telegram\n			\n				Share on Reddit (Opens in new window)\n				Reddit\n			\n				Share on WhatsApp (Opens in new window)\n				WhatsApp\n			\n				Print (Opens in new window)\n				Print
URL:https://letyourmoneygrow.com/event/fear-slightly-dominates/
END:VEVENT
BEGIN:VEVENT
DTSTART;TZID=Europe/Berlin:20190516T080000
DTEND;TZID=Europe/Berlin:20190516T170000
DTSTAMP:20260423T154923
CREATED:20190516T194315Z
LAST-MODIFIED:20190516T194315Z
UID:11466-1557993600-1558026000@letyourmoneygrow.com
SUMMARY:Markets still go up!
DESCRIPTION:Share this:\n				Share on LinkedIn (Opens in new window)\n				LinkedIn\n			\n				Share on Facebook (Opens in new window)\n				Facebook\n			\n				Share on X (Opens in new window)\n				X\n			\n				Share on Telegram (Opens in new window)\n				Telegram\n			\n				Share on Reddit (Opens in new window)\n				Reddit\n			\n				Share on WhatsApp (Opens in new window)\n				WhatsApp\n			\n				Print (Opens in new window)\n				Print
URL:https://letyourmoneygrow.com/event/markets-still-go-up/
END:VEVENT
BEGIN:VEVENT
DTSTART;TZID=Europe/Berlin:20190515T080000
DTEND;TZID=Europe/Berlin:20190515T170000
DTSTAMP:20260423T154923
CREATED:20190515T193434Z
LAST-MODIFIED:20190516T194246Z
UID:11462-1557907200-1557939600@letyourmoneygrow.com
SUMMARY:They buy the f*cking dip!
DESCRIPTION:Probably while Trump postpones tariffs for EU \nhttps://www.dailyfx.com/deutsch/devisenhandel/fundamental/tagliche_analyse/2019/05/16/Ausblick-DAX-nach-Aussagen-zu-EU-Zoellen-fester-.html \nShare this:\n				Share on LinkedIn (Opens in new window)\n				LinkedIn\n			\n				Share on Facebook (Opens in new window)\n				Facebook\n			\n				Share on X (Opens in new window)\n				X\n			\n				Share on Telegram (Opens in new window)\n				Telegram\n			\n				Share on Reddit (Opens in new window)\n				Reddit\n			\n				Share on WhatsApp (Opens in new window)\n				WhatsApp\n			\n				Print (Opens in new window)\n				Print
URL:https://letyourmoneygrow.com/event/they-buy-the-fcking-dip/
END:VEVENT
BEGIN:VEVENT
DTSTART;TZID=Europe/Berlin:20190514T080000
DTEND;TZID=Europe/Berlin:20190514T170000
DTSTAMP:20260423T154923
CREATED:20190514T201111Z
LAST-MODIFIED:20190514T201111Z
UID:11452-1557820800-1557853200@letyourmoneygrow.com
SUMMARY:No big news today: greed wins\, fear partially revenges in evening
DESCRIPTION:Share this:\n				Share on LinkedIn (Opens in new window)\n				LinkedIn\n			\n				Share on Facebook (Opens in new window)\n				Facebook\n			\n				Share on X (Opens in new window)\n				X\n			\n				Share on Telegram (Opens in new window)\n				Telegram\n			\n				Share on Reddit (Opens in new window)\n				Reddit\n			\n				Share on WhatsApp (Opens in new window)\n				WhatsApp\n			\n				Print (Opens in new window)\n				Print
URL:https://letyourmoneygrow.com/event/no-big-news-today-greed-wins-fear-partially-revenges-in-evening/
END:VEVENT
BEGIN:VEVENT
DTSTART;TZID=Europe/Berlin:20190513T080000
DTEND;TZID=Europe/Berlin:20190513T170000
DTSTAMP:20260423T154923
CREATED:20190513T201848Z
LAST-MODIFIED:20190513T201848Z
UID:11444-1557734400-1557766800@letyourmoneygrow.com
SUMMARY:Trump impose more tariffs\, China strikes back\, fear wins over greed
DESCRIPTION:https://www.finanzen.net/nachricht/aktien/nach-anhebung-der-us-zoelle-china-schlaegt-zurueck-hoehere-zoelle-auf-us-waren-ab-juni-7484609 \n  \nShare this:\n				Share on LinkedIn (Opens in new window)\n				LinkedIn\n			\n				Share on Facebook (Opens in new window)\n				Facebook\n			\n				Share on X (Opens in new window)\n				X\n			\n				Share on Telegram (Opens in new window)\n				Telegram\n			\n				Share on Reddit (Opens in new window)\n				Reddit\n			\n				Share on WhatsApp (Opens in new window)\n				WhatsApp\n			\n				Print (Opens in new window)\n				Print
URL:https://letyourmoneygrow.com/event/trump-impose-more-tariffs-china-strikes-back-fear-wins-over-greed/
END:VEVENT
BEGIN:VEVENT
DTSTART;TZID=Europe/Berlin:20190512T080000
DTEND;TZID=Europe/Berlin:20190512T170000
DTSTAMP:20260423T154923
CREATED:20190510T095948Z
LAST-MODIFIED:20190512T100244Z
UID:11434-1557648000-1557680400@letyourmoneygrow.com
SUMMARY:Greed beats fear so far. ThyssenKrupp jumps +25%
DESCRIPTION:First fear but then greed. For how long will greed suffice? 😉\n \n \nhttps://www.finanzen.net/nachricht/aktien/auch-keine-fusion-thyssenkrupp-stoppt-geplante-aufspaltung-und-strebt-ipo-der-aufzugssparte-an-aktie-ueber-20-prozent-im-plus-7475281 \n \nShare this:\n				Share on LinkedIn (Opens in new window)\n				LinkedIn\n			\n				Share on Facebook (Opens in new window)\n				Facebook\n			\n				Share on X (Opens in new window)\n				X\n			\n				Share on Telegram (Opens in new window)\n				Telegram\n			\n				Share on Reddit (Opens in new window)\n				Reddit\n			\n				Share on WhatsApp (Opens in new window)\n				WhatsApp\n			\n				Print (Opens in new window)\n				Print
URL:https://letyourmoneygrow.com/event/greed-beats-fear-so-far-thyssenkrupp-jumps-25/
END:VEVENT
BEGIN:VEVENT
DTSTART;TZID=Europe/Berlin:20190509T080000
DTEND;TZID=Europe/Berlin:20190509T170000
DTSTAMP:20260423T154923
CREATED:20190509T194109Z
LAST-MODIFIED:20190509T194109Z
UID:11421-1557388800-1557421200@letyourmoneygrow.com
SUMMARY:US officially introduced tariffs against China\, Market swings between fear and greed
DESCRIPTION:https://www.finanzen.net/nachricht/aktien/offiziell-bestaetigt-usa-machen-erhoehung-von-sonderzoellen-gegen-china-offiziell-einigung-noch-moeglich-7471157 \nShare this:\n				Share on LinkedIn (Opens in new window)\n				LinkedIn\n			\n				Share on Facebook (Opens in new window)\n				Facebook\n			\n				Share on X (Opens in new window)\n				X\n			\n				Share on Telegram (Opens in new window)\n				Telegram\n			\n				Share on Reddit (Opens in new window)\n				Reddit\n			\n				Share on WhatsApp (Opens in new window)\n				WhatsApp\n			\n				Print (Opens in new window)\n				Print
URL:https://letyourmoneygrow.com/event/us-officially-introduced-tariffs-against-china-market-swings-between-fear-and-greed/
END:VEVENT
BEGIN:VEVENT
DTSTART;TZID=Europe/Berlin:20190508T080000
DTEND;TZID=Europe/Berlin:20190508T170000
DTSTAMP:20260423T154923
CREATED:20190508T204118Z
LAST-MODIFIED:20190508T204118Z
UID:11414-1557302400-1557334800@letyourmoneygrow.com
SUMMARY:Trade War - China threatens with a backstrike
DESCRIPTION:SP500 calm\n\nDAX even grows\n \n  \nhttps://www.finanzen.net/nachricht/aktien/china-droht-mit-vergeltung-gespraeche-im-handelskrieg-gehen-weiter-7466390 \nShare this:\n				Share on LinkedIn (Opens in new window)\n				LinkedIn\n			\n				Share on Facebook (Opens in new window)\n				Facebook\n			\n				Share on X (Opens in new window)\n				X\n			\n				Share on Telegram (Opens in new window)\n				Telegram\n			\n				Share on Reddit (Opens in new window)\n				Reddit\n			\n				Share on WhatsApp (Opens in new window)\n				WhatsApp\n			\n				Print (Opens in new window)\n				Print
URL:https://letyourmoneygrow.com/event/trade-war-china-threatens-with-a-backstrike/
END:VEVENT
BEGIN:VEVENT
DTSTART;TZID=Europe/Berlin:20190507T080000
DTEND;TZID=Europe/Berlin:20190507T170000
DTSTAMP:20260423T154923
CREATED:20190507T212108Z
LAST-MODIFIED:20190507T212108Z
UID:11402-1557216000-1557248400@letyourmoneygrow.com
SUMMARY:Market continues to fall
DESCRIPTION:Although no breaking news and moreover\, Chinese told they WILL come to negotiation - in spite of Trumps assault \n \nShare this:\n				Share on LinkedIn (Opens in new window)\n				LinkedIn\n			\n				Share on Facebook (Opens in new window)\n				Facebook\n			\n				Share on X (Opens in new window)\n				X\n			\n				Share on Telegram (Opens in new window)\n				Telegram\n			\n				Share on Reddit (Opens in new window)\n				Reddit\n			\n				Share on WhatsApp (Opens in new window)\n				WhatsApp\n			\n				Print (Opens in new window)\n				Print
URL:https://letyourmoneygrow.com/event/market-continues-to-fall/
END:VEVENT
BEGIN:VEVENT
DTSTART;TZID=Europe/Berlin:20190506T080000
DTEND;TZID=Europe/Berlin:20190506T170000
DTSTAMP:20260423T154923
CREATED:20190506T211448Z
LAST-MODIFIED:20190507T212407Z
UID:11396-1557129600-1557162000@letyourmoneygrow.com
SUMMARY:Trump twits on China Tariff\, market opens with a gap
DESCRIPTION:Yesterday Trump twitted For 10 months\, China has been paying Tariffs to the USA of 25% on 50 Billion Dollars of High Tech\, and 10% on 200 Billion Dollars of other goods. These payments are partially responsible for our great economic results. The 10% will go up to 25% on Friday. 325 Billions Dollars.... \nDax opened -1.5% fell -2% intraday and closed by -1%\nSP500 opened by -1% and closed by -0.44% \n \nShare this:\n				Share on LinkedIn (Opens in new window)\n				LinkedIn\n			\n				Share on Facebook (Opens in new window)\n				Facebook\n			\n				Share on X (Opens in new window)\n				X\n			\n				Share on Telegram (Opens in new window)\n				Telegram\n			\n				Share on Reddit (Opens in new window)\n				Reddit\n			\n				Share on WhatsApp (Opens in new window)\n				WhatsApp\n			\n				Print (Opens in new window)\n				Print
URL:https://letyourmoneygrow.com/event/11396/
END:VEVENT
BEGIN:VEVENT
DTSTART;TZID=Europe/Berlin:20180501T080000
DTEND;TZID=Europe/Berlin:20180501T170000
DTSTAMP:20260423T154923
CREATED:20180221T034752Z
LAST-MODIFIED:20180221T034752Z
UID:7897-1525161600-1525194000@letyourmoneygrow.com
SUMMARY:Telefonica - sell the stock before exDividend date in order to avoid Spanish tax on dividends
DESCRIPTION:Spanish dividend tax (Quellensteuer) is 30% and although within the European Union one can claim a half of it back\, it practice it very hard to get it back.\nSince the exact ex-Div-Date is yet unknown (but expected to be in May\, 2018)\, keep checking https://www.telefonica.com/en/web/shareholders-investors/share/dividend-history \nShare this:\n				Share on LinkedIn (Opens in new window)\n				LinkedIn\n			\n				Share on Facebook (Opens in new window)\n				Facebook\n			\n				Share on X (Opens in new window)\n				X\n			\n				Share on Telegram (Opens in new window)\n				Telegram\n			\n				Share on Reddit (Opens in new window)\n				Reddit\n			\n				Share on WhatsApp (Opens in new window)\n				WhatsApp\n			\n				Print (Opens in new window)\n				Print
URL:https://letyourmoneygrow.com/event/telefonica-sell-stock-exdividend-date-order-avoid-spanish-tax-dividends/
END:VEVENT
BEGIN:VEVENT
DTSTART;TZID=Europe/Berlin:20180427T080000
DTEND;TZID=Europe/Berlin:20180427T170000
DTSTAMP:20260423T154923
CREATED:20180427T181550Z
LAST-MODIFIED:20180427T181550Z
UID:9024-1524816000-1524848400@letyourmoneygrow.com
SUMMARY:Aceto Corporation (ACET)
DESCRIPTION:Earningns \nShare this:\n				Share on LinkedIn (Opens in new window)\n				LinkedIn\n			\n				Share on Facebook (Opens in new window)\n				Facebook\n			\n				Share on X (Opens in new window)\n				X\n			\n				Share on Telegram (Opens in new window)\n				Telegram\n			\n				Share on Reddit (Opens in new window)\n				Reddit\n			\n				Share on WhatsApp (Opens in new window)\n				WhatsApp\n			\n				Print (Opens in new window)\n				Print
URL:https://letyourmoneygrow.com/event/aceto-corporation-acet/
END:VEVENT
BEGIN:VEVENT
DTSTART;TZID=Europe/Berlin:20180423T080000
DTEND;TZID=Europe/Berlin:20180423T170000
DTSTAMP:20260423T154923
CREATED:20180423T135458Z
LAST-MODIFIED:20180423T135458Z
UID:9006-1524470400-1524502800@letyourmoneygrow.com
SUMMARY:Teva to Report First Quarter 2018 Financial Results
DESCRIPTION:https://finance.yahoo.com/news/teva-report-first-quarter-2018-123000732.html \nShare this:\n				Share on LinkedIn (Opens in new window)\n				LinkedIn\n			\n				Share on Facebook (Opens in new window)\n				Facebook\n			\n				Share on X (Opens in new window)\n				X\n			\n				Share on Telegram (Opens in new window)\n				Telegram\n			\n				Share on Reddit (Opens in new window)\n				Reddit\n			\n				Share on WhatsApp (Opens in new window)\n				WhatsApp\n			\n				Print (Opens in new window)\n				Print
URL:https://letyourmoneygrow.com/event/teva-to-report-first-quarter-2018-financial-results/
END:VEVENT
BEGIN:VEVENT
DTSTART;TZID=Europe/Berlin:20180420T080000
DTEND;TZID=Europe/Berlin:20180420T170000
DTSTAMP:20260423T154923
CREATED:20180312T192742Z
LAST-MODIFIED:20180312T192742Z
UID:8188-1524211200-1524243600@letyourmoneygrow.com
SUMMARY:Steinhoff Hauptversammlung
DESCRIPTION:Share this:\n				Share on LinkedIn (Opens in new window)\n				LinkedIn\n			\n				Share on Facebook (Opens in new window)\n				Facebook\n			\n				Share on X (Opens in new window)\n				X\n			\n				Share on Telegram (Opens in new window)\n				Telegram\n			\n				Share on Reddit (Opens in new window)\n				Reddit\n			\n				Share on WhatsApp (Opens in new window)\n				WhatsApp\n			\n				Print (Opens in new window)\n				Print
URL:https://letyourmoneygrow.com/event/steinhoff-hauptversammlung/
LOCATION:Amsterdam
END:VEVENT
BEGIN:VEVENT
DTSTART;TZID=Europe/Berlin:20180331T080000
DTEND;TZID=Europe/Berlin:20180331T090000
DTSTAMP:20260423T154923
CREATED:20180317T125702Z
LAST-MODIFIED:20180317T125848Z
UID:8576-1522483200-1522486800@letyourmoneygrow.com
SUMMARY:ISHARES USD TREASURY BOND 7-10Y WKN A0LGP4 | ISIN IE00B1FZS798
DESCRIPTION:ISHARES USD TREASURY BOND 7-10Y WKN A0LGP4 | ISIN IE00B1FZS798\nis in a short list for next purchase by Elle \nShare this:\n				Share on LinkedIn (Opens in new window)\n				LinkedIn\n			\n				Share on Facebook (Opens in new window)\n				Facebook\n			\n				Share on X (Opens in new window)\n				X\n			\n				Share on Telegram (Opens in new window)\n				Telegram\n			\n				Share on Reddit (Opens in new window)\n				Reddit\n			\n				Share on WhatsApp (Opens in new window)\n				WhatsApp\n			\n				Print (Opens in new window)\n				Print
URL:https://letyourmoneygrow.com/event/ishares-usd-treasury-bond-7-10y-wkn-a0lgp4-isin-ie00b1fzs798/
END:VEVENT
BEGIN:VEVENT
DTSTART;TZID=Europe/Berlin:20180319T080000
DTEND;TZID=Europe/Berlin:20180319T170000
DTSTAMP:20260423T154923
CREATED:20180306T185829Z
LAST-MODIFIED:20180306T190103Z
UID:8041-1521446400-1521478800@letyourmoneygrow.com
SUMMARY:Update of German indices (DAX\, mDAX\, sDAX and TecDAX)
DESCRIPTION:ProSieben Sat. 1 (Large German Media Company) in DAX and Covestro (Bayer's spin of in material science division) in mDAX swap their places in indices. \nAdditionally:\n1) Suedzucker and Steinhoff move from mDAX to sDAX.\n2) Corestate Capital and JOST Werke come into sDAX\, Gerry Weber and MLP get the chop\n3) Aumann and ISRA VISION come into TecDAX\, GFT and ADVA leave it.  \n(after www.finanzen.net/nachricht/aktien/auch-im-mdax-sdax-tecdax-ab-dem-19-maerz-gibt-es-eine-aenderung-im-dax-6012236) \nShare this:\n				Share on LinkedIn (Opens in new window)\n				LinkedIn\n			\n				Share on Facebook (Opens in new window)\n				Facebook\n			\n				Share on X (Opens in new window)\n				X\n			\n				Share on Telegram (Opens in new window)\n				Telegram\n			\n				Share on Reddit (Opens in new window)\n				Reddit\n			\n				Share on WhatsApp (Opens in new window)\n				WhatsApp\n			\n				Print (Opens in new window)\n				Print
URL:https://letyourmoneygrow.com/event/8041/
END:VEVENT
END:VCALENDAR